BEGIN:VCALENDAR
VERSION:2.0
PRODID:-//ChamberMaster//Event Calendar 2.0//EN
METHOD:PUBLISH
X-PUBLISHED-TTL:P3D
REFRESH-INTERVAL:P3D
CALSCALE:GREGORIAN
BEGIN:VEVENT
DTSTART:20230614T160000Z
DTEND:20230614T190000Z
X-MICROSOFT-CDO-ALLDAYEVENT:FALSE
SUMMARY:Tech Port Vision 2023
DESCRIPTION:Port San Antonio President and CEO\, Jim Perschbach and his team\, in partnership with the San Antonio Hispanic Chamber of Commerce\, will take the stage at the Boeing Center + Arena for Tech Port Vision 2023. \n\n \n\nMore than just a celebration of past success Tech Port Vision 2023 will look forward by outlining the vision for the next phase in the Port's growth\, and what it will mean for our entire community. \n\n\n\nThere will also be a few electrifying surprises. After all\, you can't have an event in the nation's newest and most tech friendly arena without having some fun. \n\n \n\nBut hurry - this one will sell out fast!
X-ALT-DESC;FMTTYPE=text/html:Port San Antonio President and CEO\, Jim Perschbach and his team\, in partnership with the San Antonio Hispanic Chamber of Commerce\, will take the stage at the Boeing Center + Arena for Tech Port Vision 2023.&nbsp\;<br />\n&nbsp\;<br />\n<span style="font-size:10.0pt\;">More than just a celebration of past success Tech Port Vision 2023 will look forward by outlining the vision for the next phase in the Port&#39\;s growth\, and what it will mean for our entire community.&nbsp\;</span><br />\n<br />\n<span style="font-size:10.0pt\;">There will also be a few electrifying surprises. After all\, you can&#39\;t have an event in the nation&#39\;s newest and most tech friendly arena without having some fun.&nbsp\;</span><br />\n&nbsp\;<br />\n<span style="font-size:10.0pt\;">But hurry - this one will sell out fast!</span>
LOCATION:3331 General Hudnell Dr\, San Antonio\, TX 78226
UID:e.2966.4570
SEQUENCE:3
DTSTAMP:20260420T064515Z
URL:http://sahcc.chambermaster.com/events/details/tech-port-vision-2023-4570
END:VEVENT

END:VCALENDAR
