BEGIN:VCALENDAR
VERSION:2.0
PRODID:-//ChamberMaster//Event Calendar 2.0//EN
METHOD:PUBLISH
X-PUBLISHED-TTL:P3D
REFRESH-INTERVAL:P3D
CALSCALE:GREGORIAN
BEGIN:VEVENT
DTSTART:20221005T133000Z
DTEND:20221005T150000Z
X-MICROSOFT-CDO-ALLDAYEVENT:FALSE
SUMMARY:October Networking Breakfast
DESCRIPTION:Join us for our monthly networking breakfast at Augie's BBQ\, with welcoming Remarks by Councilwoman Phyllis Viagran\, from District 3
X-ALT-DESC;FMTTYPE=text/html:Join us for our monthly networking breakfast at Augie&#39\;s BBQ\, with welcoming Remarks by Councilwoman Phyllis Viagran\, from District 3
LOCATION:Augie's BBQ 909 Broadway San Antonio TX 78215
UID:e.2966.4510
SEQUENCE:3
DTSTAMP:20260419T235934Z
URL:http://sahcc.chambermaster.com/events/details/october-networking-breakfast-4510
END:VEVENT

END:VCALENDAR
