BEGIN:VCALENDAR
VERSION:2.0
PRODID:-//ChamberMaster//Event Calendar 2.0//EN
METHOD:PUBLISH
X-PUBLISHED-TTL:P3D
REFRESH-INTERVAL:P3D
CALSCALE:GREGORIAN
BEGIN:VEVENT
DTSTART:20231012T220000Z
DTEND:20231013T000000Z
X-MICROSOFT-CDO-ALLDAYEVENT:FALSE
SUMMARY:October Happy Hour 2023
DESCRIPTION:Join us along with LALO Tequila for our October Happy Hour as we celebrate the end of Hispanic Heritage Month! LALO Tequila will be offering two complimentary drinks\, so come out\, have a drink\, network\, and enjoy the fall weather!
X-ALT-DESC;FMTTYPE=text/html:Join us along with LALO Tequila for our October Happy Hour as we celebrate the end of Hispanic Heritage Month! LALO Tequila will be offering two complimentary drinks\, so come out\, have a drink\, network\, and enjoy the fall weather!&nbsp\;&nbsp\;
LOCATION:Rosario's 722 S St. Mary's St. San Antonio\, TX 78205
UID:e.2966.4809
SEQUENCE:3
DTSTAMP:20260420T215342Z
URL:http://sahcc.chambermaster.com/events/details/october-happy-hour-2023-4809
END:VEVENT

END:VCALENDAR
