BEGIN:VCALENDAR
VERSION:2.0
PRODID:-//ChamberMaster//Event Calendar 2.0//EN
METHOD:PUBLISH
X-PUBLISHED-TTL:P3D
REFRESH-INTERVAL:P3D
CALSCALE:GREGORIAN
BEGIN:VEVENT
DTSTART:20230405T133000Z
DTEND:20230405T150000Z
X-MICROSOFT-CDO-ALLDAYEVENT:FALSE
SUMMARY:Networking Breakfast with Melissa Cabello Havrda
DESCRIPTION:Please join us and Councilwoman Melissa Cabello Havrda on Wednesday\, April 5\, 2023 for a SAHCC Networking Breakfast at Augie's BBQ on Broadway! Each ticket includes coffee and tacos\, and the opportunity to connect with chamber members and potential members.
X-ALT-DESC;FMTTYPE=text/html:<p class="p1" style="margin: 0px\; font-variant-numeric: normal\; font-variant-east-asian: normal\; font-stretch: normal\; line-height: normal\; font-family: &quot\;Helvetica Neue&quot\;\; color: rgb(0\, 0\, 0)\;"><span style="font-size:12px\;"><span style="font-family:arial\;">Please join us and&nbsp\;</span></span>Councilwoman Melissa Cabello Havrda <span style="font-size:12px\;"><span style="font-family:arial\;">on Wednesday\, April 5\, 2023&nbsp\;for a SAHCC Networking Breakfast at Augie&#39\;s BBQ on Broadway! Each ticket includes coffee and tacos\, and the opportunity to connect with chamber members and potential members.</span></span></p>\n
LOCATION:Augie's Alamo City BBQ Steakhouse 909 Broadway\, San Antonio\, TX 78215
UID:e.2966.4554
SEQUENCE:3
DTSTAMP:20260421T233251Z
URL:http://sahcc.chambermaster.com/events/details/networking-breakfast-with-melissa-cabello-havrda-4554
END:VEVENT

END:VCALENDAR
