BEGIN:VCALENDAR
VERSION:2.0
PRODID:-//ChamberMaster//Event Calendar 2.0//EN
METHOD:PUBLISH
X-PUBLISHED-TTL:P3D
REFRESH-INTERVAL:P3D
CALSCALE:GREGORIAN
BEGIN:VEVENT
DTSTART:20220302T143000Z
DTEND:20220302T160000Z
X-MICROSOFT-CDO-ALLDAYEVENT:FALSE
SUMMARY:Networking Breakfast with Erik Walsh
DESCRIPTION:Please join us and San Antonio City Manager\, Erik Walsh on Wednesday\, March 2\, 2022 for a SAHCC Networking Breakfast at Augie's BBQ on Broadway! Each ticket includes coffee and tacos\, and the opportunity to connect with chamber members and potential members.
X-ALT-DESC;FMTTYPE=text/html:<p class="p1" style="margin: 0px\; font-variant-numeric: normal\; font-variant-east-asian: normal\; font-stretch: normal\; line-height: normal\; font-family: &quot\;Helvetica Neue&quot\;\; color: rgb(0\, 0\, 0)\;">Please join us and San Antonio City Manager\, Erik Walsh on Wednesday\, March 2\, 2022 for a SAHCC Networking Breakfast at Augie&#39\;s BBQ on Broadway! Each ticket includes coffee and tacos\, and the opportunity to connect with chamber members and potential members.</p>\n
LOCATION:Augie's Alamo City BBQ Steakhouse 909 Broadway\, San Antonio\, TX 78215
UID:e.2966.4446
SEQUENCE:3
DTSTAMP:20260423T140903Z
URL:http://sahcc.chambermaster.com/events/details/networking-breakfast-with-erik-walsh-4446
END:VEVENT

END:VCALENDAR
