BEGIN:VCALENDAR
VERSION:2.0
PRODID:-//ChamberMaster//Event Calendar 2.0//EN
METHOD:PUBLISH
X-PUBLISHED-TTL:P3D
REFRESH-INTERVAL:P3D
CALSCALE:GREGORIAN
BEGIN:VEVENT
DTSTART:20220601T133000Z
DTEND:20220601T150000Z
X-MICROSOFT-CDO-ALLDAYEVENT:FALSE
SUMMARY:Networking Breakfast
DESCRIPTION:Please join us\, San Antonio Assistant City Manager\, Roderick Sanchez\, and Councilman Manny Pelaez on Wednesday\, June 1\, 2022 for a SAHCC Networking Breakfast at Augie's BBQ on Broadway! At this breakfast\, we will be discussing how Small Businesses can work with San Antonio's available bond projects and will be available to answer any questions. Each ticket includes coffee and tacos\, and the opportunity to connect with chamber members and potential members.
X-ALT-DESC;FMTTYPE=text/html:Please join us\, San Antonio Assistant City Manager\, Roderick Sanchez\, and Councilman Manny Pelaez on Wednesday\, June 1\, 2022 for a SAHCC Networking Breakfast at Augie&#39\;s BBQ on Broadway! At this breakfast\, we will be discussing how Small Businesses can work with San Antonio&#39\;s available bond projects and will be available to answer any questions. Each ticket includes coffee and tacos\, and the opportunity to connect with chamber members and potential members.
LOCATION:Augie's BBQ | 909 Broadway\, San Antonio\, TX 78215
UID:e.2966.4477
SEQUENCE:3
DTSTAMP:20260420T235850Z
URL:http://sahcc.chambermaster.com/events/details/networking-breakfast-4477
END:VEVENT

END:VCALENDAR
