BEGIN:VCALENDAR
VERSION:2.0
PRODID:-//ChamberMaster//Event Calendar 2.0//EN
METHOD:PUBLISH
X-PUBLISHED-TTL:P3D
REFRESH-INTERVAL:P3D
CALSCALE:GREGORIAN
BEGIN:VEVENT
DTSTART:20220630T140000Z
DTEND:20220630T153000Z
X-MICROSOFT-CDO-ALLDAYEVENT:FALSE
SUMMARY:Bond Mass Selection Information Session
DESCRIPTION:San Antonio Hispanic Chamber and City of San Antonio Economic Development Department Department invites all small businesses in Architects\, Landscape Architects\, and Engineering services to attend an information session about the City of San Antonio's 2022-2027 Bond Mass Selection and learn how to do business with the City.
X-ALT-DESC;FMTTYPE=text/html:San Antonio Hispanic Chamber and City of San Antonio Economic Development Department Department invites all small businesses in Architects\, Landscape Architects\, and Engineering services to attend an information session about the City of San Antonio&#39\;s 2022-2027 Bond Mass Selection and learn how to do business with the City.
LOCATION:
UID:e.2966.4486
SEQUENCE:3
DTSTAMP:20260420T044855Z
URL:http://sahcc.chambermaster.com/events/details/bond-mass-selection-information-session-4486
END:VEVENT

END:VCALENDAR
