BEGIN:VCALENDAR
VERSION:2.0
PRODID:-//ChamberMaster//Event Calendar 2.0//EN
METHOD:PUBLISH
X-PUBLISHED-TTL:P3D
REFRESH-INTERVAL:P3D
CALSCALE:GREGORIAN
BEGIN:VEVENT
DTSTART:20220513T223000Z
DTEND:20220514T045500Z
X-MICROSOFT-CDO-ALLDAYEVENT:FALSE
SUMMARY:93rd Annual Gala
DESCRIPTION:Join us for a beautiful night of celebrating our Members\, Small Businesses\, and San Antonio community for our 93rd Annual Gala at the Grand Hyatt. We look forward to coming together to eat\, drink\, and dance while recognizing the immense growth and resiliency our community has displayed these past couple of years. Get your tickets and sponsorships now before they sell out and let's Accelerate San Antonio Business together!
X-ALT-DESC;FMTTYPE=text/html:Join us for a beautiful night of celebrating our Members\, Small Businesses\, and San Antonio community for our 93rd Annual Gala at the Grand Hyatt. We look forward to coming together to eat\, drink\, and dance while recognizing the immense growth and resiliency our community has displayed these past couple of years. Get your tickets and sponsorships now before they sell out and let&#39\;s Accelerate San Antonio Business together!
LOCATION:Grand Hyatt San Antonio River Walk 600 E Market St San Antonio\, TX 78205
UID:e.2966.4447
SEQUENCE:3
DTSTAMP:20260421T115727Z
URL:http://sahcc.chambermaster.com/events/details/93rd-annual-gala-4447
END:VEVENT

END:VCALENDAR
