BEGIN:VCALENDAR
VERSION:2.0
PRODID:-//ChamberMaster//Event Calendar 2.0//EN
METHOD:PUBLISH
X-PUBLISHED-TTL:P3D
REFRESH-INTERVAL:P3D
CALSCALE:GREGORIAN
BEGIN:VEVENT
DTSTART:20170418T133000Z
DTEND:20170418T150000Z
X-MICROSOFT-CDO-ALLDAYEVENT:FALSE
SUMMARY:8 Free Google Tools for Search Engine Optimization
DESCRIPTION:Want to attract more customers to your business? 80% of shoppers use search engines to find local product and service information. Internet marketing coaches Alejandro Quetzeri and Brenda Leal with Nube Internet will educate you on free tools that google offers for search engine optimization. In this session\, you will learn:\n\n\n	The importance of Google search ranking\n	How and why to use Search Engine Optimization to your advantage\n	The 8 free Google SEO tools for your business\n\nUnderstanding these key tools and how to leverage search engine optimization will help take your small business to the next level.\n\nLight breakfast will be provided. \n\n\n\nREGISTER HERE
X-ALT-DESC;FMTTYPE=text/html:<span style="font-size:14px\;">Want to attract more customers to your business? 80% of shoppers use search engines to find local product and service information. Internet marketing coaches Alejandro Quetzeri and Brenda Leal with Nube Internet will educate you on free tools that google offers for search engine optimization. In this session\, you will learn:</span>\n\n<ul>\n	<li style="padding:0px\;"><span style="font-size:14px\;"><span style="padding-top:0px\;">The importance of Google search ranking</span></span></li>\n	<li style="padding:5px 0px 0px\;"><span style="font-size:14px\;"><span style="padding-top:0px\;">How and why to use Search Engine Optimization to your advantage</span></span></li>\n	<li style="padding:5px 0px 0px\;"><span style="font-size:14px\;"><span style="padding-top:0px\;">The 8 free Google SEO tools for your business</span></span></li>\n</ul>\n<span style="font-size:14px\;">Understanding these key tools and how to leverage search engine optimization will help take your small business to the next level.</span><br />\n<em>Light breakfast will be provided.&nbsp\;</em><br />\n<br />\n<a href="https://www.eventbrite.com/e/8-free-google-tools-for-search-engine-optimization-tickets-33413906895"><span style="font-size:16px\;"><strong>REGISTER HERE</strong></span></a>
LOCATION:Maestro Entrepreneur Center 1811 S. Laredo St. San Antonio\, TX 78207
UID:e.2966.1711
SEQUENCE:3
DTSTAMP:20260420T155311Z
URL:http://sahcc.chambermaster.com/events/details/8-free-google-tools-for-search-engine-optimization-1711
END:VEVENT

END:VCALENDAR
