BEGIN:VCALENDAR
VERSION:2.0
PRODID:-//ChamberMaster//Event Calendar 2.0//EN
METHOD:PUBLISH
X-PUBLISHED-TTL:P3D
REFRESH-INTERVAL:P3D
CALSCALE:GREGORIAN
BEGIN:VEVENT
DTSTART;VALUE=DATE:20221107
DTEND;VALUE=DATE:20221109
TRANSP:TRANSPARENT
X-MICROSOFT-CDO-ALLDAYEVENT:TRUE
SUMMARY:2022 CORE 4 STEM Expo
DESCRIPTION:CORE4 STEM is a three-day celebration of education and career opportunities in "STEM"   science\, technology\, engineering\, and mathematics. The CORE4 Expo brings students\, parents\, and educators together with high-profile STEM professionals\, corporations\, government agencies\, universities\, and colleges.\n\n \n\nThis year\, along with our member and agency partners\, we are excited to host our students at the Tech Port Arena at Port San Antonio. This incredible new space is the perfect setting to not only engage our youth in STEM careers but also show the incredible investment of our community in our students.
X-ALT-DESC;FMTTYPE=text/html:<p class="p1" style="margin: 0px\; font-variant-numeric: normal\; font-variant-east-asian: normal\; font-stretch: normal\; line-height: normal\; font-family: &quot\;Helvetica Neue&quot\;\; color: rgb(0\, 0\, 0)\;">CORE4 STEM is a three-day celebration of education and career opportunities in &ldquo\;STEM&rdquo\; &ndash\; science\, technology\, engineering\, and mathematics. The CORE4 Expo brings students\, parents\, and educators together with high-profile STEM professionals\, corporations\, government agencies\, universities\, and colleges.</p>\n\n<p class="p1" style="margin: 0px\; font-variant-numeric: normal\; font-variant-east-asian: normal\; font-stretch: normal\; line-height: normal\; font-family: &quot\;Helvetica Neue&quot\;\; color: rgb(0\, 0\, 0)\;">&nbsp\;</p>\n\n<p class="p1" style="margin: 0px\; font-variant-numeric: normal\; font-variant-east-asian: normal\; font-stretch: normal\; line-height: normal\; font-family: &quot\;Helvetica Neue&quot\;\; color: rgb(0\, 0\, 0)\;">This year\, along with our member and agency partners\, we are excited to host our students at the Tech Port Arena at Port San Antonio. This incredible new space is the perfect setting to not only engage our youth in STEM careers but also show the incredible investment of our community in our students.</p>\n
LOCATION:Tech Port Center + Arena 3331 General Hudnell Dr. San Antonio\, TX 78226
UID:e.2966.4509
SEQUENCE:3
DTSTAMP:20260424T235948Z
URL:http://sahcc.chambermaster.com/events/details/2022-core-4-stem-expo-4509
END:VEVENT

END:VCALENDAR
