BEGIN:VCALENDAR
VERSION:2.0
PRODID:-//ChamberMaster//Event Calendar 2.0//EN
METHOD:PUBLISH
X-PUBLISHED-TTL:P3D
REFRESH-INTERVAL:P3D
CALSCALE:GREGORIAN
BEGIN:VEVENT
DTSTART:20161019T143000Z
DTEND:20161019T153000Z
X-MICROSOFT-CDO-ALLDAYEVENT:FALSE
SUMMARY:2016 CORE4 STEM PRESS CONFERENCE
DESCRIPTION:
X-ALT-DESC;FMTTYPE=text/html:
LOCATION:City Hall Footsteps100 Military Plaza San Antonio\, TX 78205
UID:e.2966.337
SEQUENCE:3
DTSTAMP:20260421T111858Z
URL:http://sahcc.chambermaster.com/events/details/2016-core4-stem-press-conference-337
END:VEVENT

END:VCALENDAR
